BEGIN:VCALENDAR
VERSION:2.0
PRODID:-//Find your Strength - ECPv6.15.16.1//NONSGML v1.0//EN
CALSCALE:GREGORIAN
METHOD:PUBLISH
X-WR-CALNAME:Find your Strength
X-ORIGINAL-URL:https://findyourstrength.ca
X-WR-CALDESC:Events for Find your Strength
REFRESH-INTERVAL;VALUE=DURATION:PT1H
X-Robots-Tag:noindex
X-PUBLISHED-TTL:PT1H
BEGIN:VTIMEZONE
TZID:America/Toronto
BEGIN:DAYLIGHT
TZOFFSETFROM:-0500
TZOFFSETTO:-0400
TZNAME:EDT
DTSTART:20250309T070000
END:DAYLIGHT
BEGIN:STANDARD
TZOFFSETFROM:-0400
TZOFFSETTO:-0500
TZNAME:EST
DTSTART:20251102T060000
END:STANDARD
BEGIN:DAYLIGHT
TZOFFSETFROM:-0500
TZOFFSETTO:-0400
TZNAME:EDT
DTSTART:20260308T070000
END:DAYLIGHT
BEGIN:STANDARD
TZOFFSETFROM:-0400
TZOFFSETTO:-0500
TZNAME:EST
DTSTART:20261101T060000
END:STANDARD
BEGIN:DAYLIGHT
TZOFFSETFROM:-0500
TZOFFSETTO:-0400
TZNAME:EDT
DTSTART:20270314T070000
END:DAYLIGHT
BEGIN:STANDARD
TZOFFSETFROM:-0400
TZOFFSETTO:-0500
TZNAME:EST
DTSTART:20271107T060000
END:STANDARD
END:VTIMEZONE
BEGIN:VEVENT
DTSTART;TZID=America/Toronto:20260425T100000
DTEND;TZID=America/Toronto:20260425T233000
DTSTAMP:20260423T081003
CREATED:20260208T020240Z
LAST-MODIFIED:20260405T181043Z
UID:101198-1777111200-1777159800@findyourstrength.ca
SUMMARY:Nervous System Reset Workshop
DESCRIPTION:Nervous System Reset Workshop\nMarch 8\, 2026 | 10:00 AM | Pickering\, ON \nThis 90-minute Nervous System Reset Workshop offers a safe\, supportive\, and grounding space to gently reconnect with your body and nervous system. Designed through a trauma-informed lens\, this experience supports individuals who feel overwhelmed\, tense\, emotionally dysregulated\, or stuck in survival mode. \nYou do not need prior yoga experience. All practices are invitational\, and you are encouraged to move at your own pace while honouring your body’s cues. \n\nWhat This Workshop Includes\n\n60 minutes of trauma-informed yoga\, incorporating gentle movement\, breathwork\, and grounding practices to support nervous system regulation\n30 minutes of guided discussion and reflection\, focused on coping strategies for anxiety\, emotional regulation\, and self-awareness\n\n\nWorkshop Details\n\nDate: March 8\, 2026\nTime: 10:00 AM\nDuration: 90 minutes\nLocation:1099 Kingston Rd\, Unit 5EPickering\, ON L1V 1B5Ontario\, Canada\n\n\nInvestment\n\n$240 for the full 90-minute workshopA receipt will be provided following the session. Please confirm insurance coverage in advance if you plan to submit for reimbursement.\n\n\nWhat to Bring\nComfortable clothingA yoga mat (if you have one)WaterAnything that helps you feel grounded and supported\n\nThis workshop is suitable for beginners and those new to yoga. The focus is on safety\, choice\, and nervous system awareness rather than performance or flexibility. \nIf you have any questions before registering\, please feel free to reach out. We look forward to holding this space with you. \n\n	Notice: JavaScript is required for this content.
URL:https://findyourstrength.ca/event/yoga-event/
LOCATION:Yoga location\, Bare Yoga - 1099 Kingston Rd Unit 5E\, Pickering\, ON L1V 1B5\, Pickering\, Ontario\, Canada
ATTACH;FMTTYPE=image/jpeg:https://findyourstrength.ca/wp-content/uploads/2026/02/Sunny_Spirit_original_378417.jpg
ORGANIZER;CN="Find Your Strength":MAILTO:info@findyourstrength.ca
END:VEVENT
END:VCALENDAR